BEGIN:VCALENDAR
VERSION:2.0
PRODID:-//ChamberMaster//Event Calendar 2.0//EN
METHOD:PUBLISH
X-PUBLISHED-TTL:P3D
REFRESH-INTERVAL:P3D
CALSCALE:GREGORIAN
BEGIN:VEVENT
DTSTART:20241002T153000Z
DTEND:20241002T183000Z
X-MICROSOFT-CDO-ALLDAYEVENT:FALSE
SUMMARY:Conflict Resolution - 3 Part Series
DESCRIPTION:3-part series\, 8:30 am - 11:30 am Oct. 2 Conflict Resolution I: Causes\n\nOct. 9 Conflict Resolution II: Styles\n\nOct. 16 Conflict Resolution III: Dialogues and Behaviors\n\n\n\nConflict I: Gain clarity about the 5 main sources of conflict. Identify patterns that emerge in your role based on these root causes of conflict. Learn specific communication techniques for minimizing conflict in these areas.\n\nConflict II: Understand the strengths and limitations of each conflict resolutions strategy. Identify your natural conflict style and think about the natural styles of your coworkers. Utilize all strategies as needed for effective conflict resolution.\n\nConflict III: Understand and utilize the conflict dialog guidelines. Face conflicts with a focus on mutual understanding through discussion and action plan development for long-term resolution. Consistently demonstrate behaviors that minimize conflict in the workplace.
X-ALT-DESC;FMTTYPE=text/html:3-part series\, 8:30 am - 11:30 am Oct. 2 Conflict Resolution I: Causes<br />\nOct. 9 Conflict Resolution II: Styles<br />\nOct. 16 Conflict Resolution III: Dialogues and Behaviors<br />\n<br />\nConflict I: Gain clarity about the 5 main sources of conflict. Identify patterns that emerge in your role based on these root causes of conflict. Learn specific communication techniques for minimizing conflict in these areas.<br />\nConflict II: Understand the strengths and limitations of each conflict resolutions strategy. Identify your natural conflict style and think about the natural styles of your coworkers. Utilize all strategies as needed for effective conflict resolution.<br />\nConflict III: Understand and utilize the conflict dialog guidelines. Face conflicts with a focus on mutual understanding through discussion and action plan development for long-term resolution. Consistently demonstrate behaviors that minimize conflict in the workplace.
LOCATION:The Training Place - Butte College
UID:e.2970.44528
SEQUENCE:3
DTSTAMP:20260421T124919Z
URL:https://business.paradisechamber.com/events/details/conflict-resolution-3-part-series-10-02-2024-44528
END:VEVENT

END:VCALENDAR
