BEGIN:VCALENDAR
VERSION:2.0
PRODID:-//ChamberMaster//Event Calendar 2.0//EN
METHOD:PUBLISH
X-PUBLISHED-TTL:P3D
REFRESH-INTERVAL:P3D
CALSCALE:GREGORIAN
BEGIN:VEVENT
DTSTART:20241215T210000Z
DTEND:20241216T003000Z
X-MICROSOFT-CDO-ALLDAYEVENT:FALSE
SUMMARY:Community ‘Let’s Dance’
DESCRIPTION:Free Line Dance Lessons 1-2pm SOUL POSSE plays all styles Dance music 2-4:30 on VFW huge Disco Dance Floor!
X-ALT-DESC;FMTTYPE=text/html:Free Line Dance Lessons 1-2pm SOUL POSSE plays all styles Dance music 2-4:30 on VFW huge Disco Dance Floor!
LOCATION:Paradise Veterans Memorial Hall
UID:e.2970.45805
SEQUENCE:3
DTSTAMP:20260426T003154Z
URL:https://business.paradisechamber.com/events/details/community-let-s-dance-12-15-2024-45805
END:VEVENT

END:VCALENDAR
