BEGIN:VCALENDAR
VERSION:2.0
PRODID:-//ChamberMaster//Event Calendar 2.0//EN
METHOD:PUBLISH
X-PUBLISHED-TTL:P3D
REFRESH-INTERVAL:P3D
CALSCALE:GREGORIAN
BEGIN:VEVENT
DTSTART:20240613T210000Z
DTEND:20240613T230000Z
X-MICROSOFT-CDO-ALLDAYEVENT:FALSE
SUMMARY:Communication Series - 3 Part Series
DESCRIPTION:June 13 Plan and Deliver Your Message June 20 Listening\, Questioning and Results June 27 Meeting Practical and Personal Needs Identify the intention of your message and the root of miscommunication. Demonstrate non-verbal signals to support your message. Learn to communicate beyond your comfort zone. Utilize active listening skills. Provide specific feedback. Ask open-ended questions. Limit use of close-ended questions. Integrate Your Intentions with the Key Principles of Communication. Establish a communication routine for consistent quality. Utilize discussion organization tools for enhanced impact.
X-ALT-DESC;FMTTYPE=text/html:June 13 Plan and Deliver Your Message June 20 Listening\, Questioning and Results June 27 Meeting Practical and Personal Needs Identify the intention of your message and the root of miscommunication. Demonstrate non-verbal signals to support your message. Learn to communicate beyond your comfort zone. Utilize active listening skills. Provide specific feedback. Ask open-ended questions. Limit use of close-ended questions. Integrate Your Intentions with the Key Principles of Communication. Establish a communication routine for consistent quality. Utilize discussion organization tools for enhanced impact.
LOCATION:Virtual Class
UID:e.2970.44492
SEQUENCE:3
DTSTAMP:20260423T160758Z
URL:https://business.paradisechamber.com/events/details/communication-series-3-part-series-44492
END:VEVENT

END:VCALENDAR
