BEGIN:VCALENDAR
VERSION:2.0
PRODID:-//ChamberMaster//Event Calendar 2.0//EN
METHOD:PUBLISH
X-PUBLISHED-TTL:P3D
REFRESH-INTERVAL:P3D
CALSCALE:GREGORIAN
BEGIN:VEVENT
DTSTART:20221029T200000Z
DTEND:20221029T230000Z
X-MICROSOFT-CDO-ALLDAYEVENT:FALSE
SUMMARY:Butte Rose Society Rose Show
DESCRIPTION:CHICO   An amazing display of locally grown roses will greet visitors to the Butte Rose Society's annual Rose Show. The event will be 1-4 p.m. Oct. 29 at the Chico Community Center (CARD)\, 545 Vallombrosa Ave. There is no admission charge. The show also features judged horticulture and arrangement entries. Details about submitting entries are available on the website. There will be a photography display\, arts and crafts\, fragrant rose contest\, youth activities\, and master rosarians to answer questions. Learn more about the roses that grow well in this area. Find out what may be causing problems with your roses. Rose experts will be available to answer questions\, and discuss types of roses that you may want to add to a garden. Also plan to visit the adjacent Creekside Rose Garden\, sponsored by Chico Area Recreation and Park District\, that has more than 100 rose bushes.
X-ALT-DESC;FMTTYPE=text/html:CHICO &mdash\; An amazing display of locally grown roses will greet visitors to the Butte Rose Society&rsquo\;s annual Rose Show. The event will be 1-4 p.m. Oct. 29 at the Chico Community Center (CARD)\, 545 Vallombrosa Ave. There is no admission charge. The show also features judged horticulture and arrangement entries. Details about submitting entries are available on the website. There will be a photography display\, arts and crafts\, fragrant rose contest\, youth activities\, and master rosarians to answer questions. Learn more about the roses that grow well in this area. Find out what may be causing problems with your roses. Rose experts will be available to answer questions\, and discuss types of roses that you may want to add to a garden. Also plan to visit the adjacent Creekside Rose Garden\, sponsored by Chico Area Recreation and Park District\, that has more than 100 rose bushes.
LOCATION:CARD Community Center\, 545 Vallombrosa Ave. Chico CA
UID:e.2970.36952
SEQUENCE:3
DTSTAMP:20260423T120439Z
URL:https://business.paradisechamber.com/events/details/butte-rose-society-rose-show-36952
END:VEVENT

END:VCALENDAR
