BEGIN:VCALENDAR
VERSION:2.0
PRODID:-//ChamberMaster//Event Calendar 2.0//EN
METHOD:PUBLISH
X-PUBLISHED-TTL:P3D
REFRESH-INTERVAL:P3D
CALSCALE:GREGORIAN
BEGIN:VEVENT
DTSTART:20230531T173000Z
DTEND:20230531T183000Z
X-MICROSOFT-CDO-ALLDAYEVENT:FALSE
SUMMARY:Breastfeeding focused support group
DESCRIPTION:FREE once a week breastfeeding focused support group for parents and their little ones. Pregnant\, pumping\, mixed and formula feeding parents are all welcome to attend and feel free to bring older siblings\; we have a great play area for them. Come find support and encouragement in your breastfeeding and parenting journey\, meet other parents and have a place for your little ones to interact! This is solely a mom to mom support group that we facilitate. If you need specific breastfeeding help we are happy to set up a lactation consult for you.
X-ALT-DESC;FMTTYPE=text/html:FREE once a week breastfeeding focused support group for parents and their little ones. Pregnant\, pumping\, mixed and formula feeding parents are all welcome to attend and feel free to bring older siblings\; we have a great play area for them. Come find support and encouragement in your breastfeeding and parenting journey\, meet other parents and have a place for your little ones to interact! This is solely a mom to mom support group that we facilitate.&nbsp\;If you need specific breastfeeding help we are happy to set up a lactation consult for you.
LOCATION:The BEST Place for Moms
UID:e.2970.41278
SEQUENCE:3
DTSTAMP:20260420T081949Z
URL:https://business.paradisechamber.com/events/details/breastfeeding-focused-support-group-05-31-2023-41278
END:VEVENT

END:VCALENDAR
