BEGIN:VCALENDAR
VERSION:2.0
PRODID:-//ChamberMaster//Event Calendar 2.0//EN
METHOD:PUBLISH
X-PUBLISHED-TTL:P3D
REFRESH-INTERVAL:P3D
CALSCALE:GREGORIAN
BEGIN:VEVENT
DTSTART:20240704T000000Z
DTEND:20240704T033000Z
X-MICROSOFT-CDO-ALLDAYEVENT:FALSE
SUMMARY:BINGO
DESCRIPTION:BINGO every Wednesday afternoon
X-ALT-DESC;FMTTYPE=text/html:BINGO every Wednesday afternoon
LOCATION:Paradise Veterans Memorial Hall
UID:e.2970.41844
SEQUENCE:3
DTSTAMP:20260420T092542Z
URL:https://business.paradisechamber.com/events/details/bingo-07-03-2024-41844
END:VEVENT

END:VCALENDAR
