BEGIN:VCALENDAR
VERSION:2.0
PRODID:-//ChamberMaster//Event Calendar 2.0//EN
METHOD:PUBLISH
X-PUBLISHED-TTL:P3D
REFRESH-INTERVAL:P3D
CALSCALE:GREGORIAN
BEGIN:VEVENT
DTSTART:20220622T200000Z
DTEND:20220622T220000Z
X-MICROSOFT-CDO-ALLDAYEVENT:FALSE
SUMMARY:Barn Angel Program
DESCRIPTION:We would love your help caring for our horses in a safe\, peaceful and healing space at Sol Ranch. Together we will explore mindfulness\, hope\, inner clarity and build a connection. Gabby and Electreka love carrots and would love to meet you! Register today at https://linktr.ee/solsanctuary
X-ALT-DESC;FMTTYPE=text/html:We would love your help caring for our horses in a safe\, peaceful and healing space at Sol Ranch. Together we will explore mindfulness\, hope\, inner clarity and build a connection. Gabby and Electreka love carrots and would love to meet you! Register today at https://linktr.ee/solsanctuary
LOCATION:Sol Sanctuary Ranch 4791 Round Valley Ranch Rd. Paradise\, CA 95969
UID:e.2970.32893
SEQUENCE:3
DTSTAMP:20260421T083842Z
URL:https://business.paradisechamber.com/events/details/barn-angel-program-06-22-2022-32893
END:VEVENT

END:VCALENDAR
