BEGIN:VCALENDAR
VERSION:2.0
PRODID:-//ChamberMaster//Event Calendar 2.0//EN
METHOD:PUBLISH
X-PUBLISHED-TTL:P3D
REFRESH-INTERVAL:P3D
CALSCALE:GREGORIAN
BEGIN:VEVENT
DTSTART:20240608T230000Z
DTEND:20240609T010000Z
X-MICROSOFT-CDO-ALLDAYEVENT:FALSE
SUMMARY:Art Auction
DESCRIPTION:The Paradise Art Center will host an Art Auction on Saturday June 8 from 4-6pm. An extraordinary event made possible through the generous contributions of the Fine Artists of Paradise. Refreshments served\, No Host bar. The event will raise money for the "Raise the Roof" restoration project. The Paradise Art Center is located at 5564 Almond Street. For more information visit paradise-art-center.com.
X-ALT-DESC;FMTTYPE=text/html:The Paradise Art Center will host an Art Auction on Saturday June 8 from 4-6pm. An extraordinary event made possible through the generous contributions of the Fine Artists of Paradise. Refreshments served\, No Host bar. The event will raise money for the &ldquo\;Raise the Roof&rdquo\; restoration project. The Paradise Art Center is located at 5564 Almond Street. For more information visit paradise-art-center.com.
LOCATION:Paradise Art Center
UID:e.2970.44633
SEQUENCE:3
DTSTAMP:20260423T161458Z
URL:https://business.paradisechamber.com/events/details/art-auction-44633
END:VEVENT

END:VCALENDAR
