BEGIN:VCALENDAR
VERSION:2.0
PRODID:-//ChamberMaster//Event Calendar 2.0//EN
METHOD:PUBLISH
X-PUBLISHED-TTL:P3D
REFRESH-INTERVAL:P3D
CALSCALE:GREGORIAN
BEGIN:VEVENT
DTSTART:20240617T153000Z
DTEND:20240618T000000Z
X-MICROSOFT-CDO-ALLDAYEVENT:FALSE
SUMMARY:Arc Flash Electrical Safety NFPA 70E
DESCRIPTION:It is essential to stay current and compliant with the latest industry electrical safety practices\; especially when your job presents possible electrical safety hazards. The NFPA70E certified safety training will teach you to identify electric hazards\, work hazards associated with electrical safety\, safe installation practices and requirements for electrical components and much more. This National Fire Protection Association (NFPA) standard is vital for workers\, supervisors and safety personnel to grasp electrical hazards and learn how to keep the themselves\, and the workforce\, safe. Learn how to assess risk and avoid injury through this 8 hour training. Electrical Safety Training Lock out / Tag out procedures and requirements (LOTO) Emergency Response Qualified persons Affected (unqualified) persons Voltage Fundamentals Precautionary Techniques and procedures PPE   electrical / Arc flash Test equipment use Energized conductors and circuits Approach distances and boundaries Job safety and planning Electrical Hazards and risks Risk control HPI (Human Performance Improvement) Safety
X-ALT-DESC;FMTTYPE=text/html:It is essential to stay current and compliant with the latest industry electrical safety practices\; especially when your job presents possible electrical safety hazards. The NFPA70E certified safety training will teach you to identify electric hazards\, work hazards associated with electrical safety\, safe installation practices and requirements for electrical components and much more. This National Fire Protection Association (NFPA) standard is vital for workers\, supervisors and safety personnel to grasp electrical hazards and learn how to keep the themselves\, and the workforce\, safe. Learn how to assess risk and avoid injury through this 8 hour training. Electrical Safety Training Lock out / Tag out procedures and requirements (LOTO) Emergency Response Qualified persons Affected (unqualified) persons Voltage Fundamentals Precautionary Techniques and procedures PPE &ndash\; electrical / Arc flash Test equipment use Energized conductors and circuits Approach distances and boundaries Job safety and planning Electrical Hazards and risks Risk control HPI (Human Performance Improvement) Safety
LOCATION:Butte College Glenn Center
UID:e.2970.44494
SEQUENCE:3
DTSTAMP:20260423T160821Z
URL:https://business.paradisechamber.com/events/details/arc-flash-electrical-safety-nfpa-70e-44494
END:VEVENT

END:VCALENDAR
