BEGIN:VCALENDAR
VERSION:2.0
PRODID:-//ChamberMaster//Event Calendar 2.0//EN
METHOD:PUBLISH
X-PUBLISHED-TTL:P3D
REFRESH-INTERVAL:P3D
CALSCALE:GREGORIAN
BEGIN:VEVENT
DTSTART:20240213T170000Z
DTEND:20240213T180000Z
X-MICROSOFT-CDO-ALLDAYEVENT:FALSE
SUMMARY:Achieve Charter School of Paradise (K-7) Open Enrollment School Tour
DESCRIPTION:Open enrollment for the 2024-25 school year is happening now! Applications are being accepted for grades K-7 at the Paradise campus and grades K-8 at the Chico campus. For more information or to complete a lottery application\, please visit our website (https://www.achievecharter.org/ENROLLMENT/index.html) or click HERE. \n\n\n\nOPEN ENROLLMENT EVENT DATES\n\n\nSchool Tours\n\nFebruary 6\, 2024\, 9:00 am -10:00 am and 3:00 pm - 4:00 pm\n\nFebruary 13\, 2024\, 9:00 am -10:00 am\n\nFebruary 27\, 2024\, 9:00 am - 10:00 am and 3:00 pm - 4:00 pm\n\n \n\nInfo Nights\n\nFebruary 8\, 2024\, Kindergarten Information Night 5:30 pm - 6:30 pm\n\nFebruary 8\, 2024\, Middle School Information Night 6:30 pm - 7:30 pm\n\n \n\nLottery\n\nMarch 5\, 2024
X-ALT-DESC;FMTTYPE=text/html:<div>\n<h3>Open enrollment for the 2024-25 school year is happening now! Applications are being accepted for grades K-7 at the Paradise campus and grades&nbsp\;K-8 at the Chico campus.&nbsp\;For more information or to complete a lottery application\, please visit our website (https://www.achievecharter.org/ENROLLMENT/index.html) or&nbsp\;click&nbsp\;<a href="https://www.achievecharter.org/ENROLLMENT/index.html">HERE.</a>&nbsp\;</h3>\n</div>\n\n<div>\n<div>OPEN ENROLLMENT EVENT DATES</div>\n\n<div>\n<div>School Tours</div>\n\n<div>February 6\, 2024\, 9:00 am -10:00 am and 3:00 pm - 4:00 pm</div>\n\n<div><span style="background-color:rgba(0\, 0\, 0\, 0)">February 13\, 2024\,&nbsp\;</span><span style="background-color:rgba(0\, 0\, 0\, 0)">9:00 am -10:00 am</span></div>\n\n<div>February 27\, 2024\, 9:00 am - 10:00 am and 3:00 pm - 4:00 pm</div>\n\n<div>&nbsp\;</div>\n\n<div>Info Nights</div>\n\n<div>February 8\, 2024\, Kindergarten Information Night 5:30 pm - 6:30 pm</div>\n\n<div>February 8\, 2024\, Middle School Information Night 6:30 pm - 7:30 pm</div>\n\n<div>&nbsp\;</div>\n\n<div>Lottery</div>\n\n<div>March 5\, 2024</div>\n</div>\n</div>\n
LOCATION:
UID:e.2970.42538
SEQUENCE:3
DTSTAMP:20260422T210709Z
URL:https://business.paradisechamber.com/events/details/achieve-charter-school-of-paradise-k-7-open-enrollment-school-tour-02-13-2024-42538
END:VEVENT

END:VCALENDAR
