BEGIN:VCALENDAR
VERSION:2.0
PRODID:-//ChamberMaster//Event Calendar 2.0//EN
METHOD:PUBLISH
X-PUBLISHED-TTL:P3D
REFRESH-INTERVAL:P3D
CALSCALE:GREGORIAN
BEGIN:VEVENT
DTSTART:20230809T160000Z
DTEND:20230809T170000Z
X-MICROSOFT-CDO-ALLDAYEVENT:FALSE
SUMMARY:1 Million Cups - Chico: Teamforce AI & The Leaders Partner
DESCRIPTION:1MC Chico has two brand-new presenters this week! Meet Vivek Kumar with Teamforce AI and Marcie Shelton with The Leaders Partner. \n\n\n\nTeamforce AI's kiosk-based solution voluntarily and anonymously collects feedback from\, and positively influences the workforce\, every day. The Leaders Partner enables leaders and teams to achieve desired results by aligning behaviors to strategies. They can help you connect your people to your purpose.\n\n\n\nDate: Wednesday\, August 9th Time: 9:00 a.m.\n\n\n\nAttend In Person: ChicoSTART\, 411 Main Street\, Suite 101\n\nJoin virtually visit 1millioncups.com/chico\n\n\n\nWe hope to see you there!
X-ALT-DESC;FMTTYPE=text/html:1MC Chico has two brand-new presenters this week! Meet Vivek Kumar with Teamforce AI and Marcie Shelton with The Leaders Partner.&nbsp\;<br />\n<br />\nTeamforce AI&rsquo\;s kiosk-based solution voluntarily and anonymously collects feedback from\, and positively influences the workforce\, every day. The Leaders Partner enables leaders and teams to achieve desired results by aligning behaviors to strategies. They can help you connect your people to your purpose.<br />\n<br />\nDate: Wednesday\, August 9th Time: 9:00 a.m.<br />\n<br />\nAttend In Person: ChicoSTART\, 411 Main Street\, Suite 101<br />\nJoin virtually visit <a href="https://www.1millioncups.com/s/account/0014W00002AqQdaQAF/chico-ca">1millioncups.com/chico</a><br />\n<br />\nWe hope to see you there!
LOCATION:
UID:e.2970.41600
SEQUENCE:3
DTSTAMP:20260423T144017Z
URL:https://business.paradisechamber.com/events/details/1-million-cups-chico-teamforce-ai-the-leaders-partner-41600
END:VEVENT

END:VCALENDAR
