BEGIN:VCALENDAR
VERSION:2.0
PRODID:-//ChamberMaster//Event Calendar 2.0//EN
METHOD:PUBLISH
X-PUBLISHED-TTL:P3D
REFRESH-INTERVAL:P3D
CALSCALE:GREGORIAN
BEGIN:VEVENT
DTSTART:20240619T160000Z
DTEND:20240619T170000Z
X-MICROSOFT-CDO-ALLDAYEVENT:FALSE
SUMMARY:1 Million Cups Chico: Party On Wheels
DESCRIPTION:Join us Wednesday\, June 19th at 9:00 a.m. for 1 Million Cups\, Chico as we proudly introduce Party On Wheels! Founded by Katie Germann and Carson Pezzetti\, Party On Wheels is a unique 14-passenger tour bike\, designed to pedal through the streets of Chico for any local or private event you have in mind.\n\n\n\nCome and join us in person at 411 Main St\, Suite 101 Chico\, CA 95928.\n\n\n\nFor more information go to: www.1millioncups.com/chico\n\n\n\nDate: Wednesday\, June 19th Time: 9:00 a.m. Join virtually - Visit 1millioncups.com/chico?
X-ALT-DESC;FMTTYPE=text/html:Join us Wednesday\, June 19th at 9:00 a.m. for 1 Million Cups\, Chico as we proudly introduce Party On Wheels! Founded by Katie Germann and Carson Pezzetti\, Party On Wheels is a unique 14-passenger tour bike\, designed to pedal through the streets of Chico for any local or private event you have in mind.<br />\n<br />\nCome and join us in person at 411 Main St\, Suite 101 Chico\, CA 95928.<br />\n<br />\nFor more information go to: www.1millioncups.com/chico<br />\n<br />\nDate: Wednesday\, June 19th Time: 9:00 a.m. Join virtually - Visit 1millioncups.com/chico?
LOCATION:In-Person: ChicoStart irtual: https://kauffman.zoom.us/j/7938320019?mc_cid=88285c68d7&mc_eid=4d5c6a145d#success
UID:e.2970.45040
SEQUENCE:3
DTSTAMP:20260423T160952Z
URL:https://business.paradisechamber.com/events/details/1-million-cups-chico-party-on-wheels-45040
END:VEVENT

END:VCALENDAR
